BEGIN:VCALENDAR
VERSION:2.0
PRODID:-//Sabre//Sabre VObject 4.5.8//EN
CALSCALE:GREGORIAN
BEGIN:VEVENT
UID:criticalmass-one-bochum-1755680400
DTSTAMP:20260422T045420Z
SUMMARY:Kidical Mass Bochum 20.08.2025
DESCRIPTION:Die Demo endet diesmal beim YOUTH OPEN des Kinder- und Jugendri
 ng Bochum e.V. am Bergbaumuseum. Hier stellen sich die Kinder- und Jugendf
 reizeithäuser\, die Jugendverbände\, die Jugendinitiativen und der Kinde
 r- und Jugendring  mit einem bunten Bühnenprogramm und verschiedenen Mitm
 achaktionen vor.\n\nKinder (unter 14 Jahren) können an einer Spielerallye
  mit unterschiedlichen Stationen teilnehmen. Sie nehmen dann auch an einer
  Verlosung teil.\n\nDas Motto des YOUTH OPEN lautet in diesem Jahr: Kinder
 rechte – Bausteine der Demokratie.
DTSTART;TZID=Europe/Berlin:20250820T110000
DTEND;TZID=Europe/Berlin:20250820T130000
LOCATION:Bochum Spielplatz Stadtpark
GEO:51.493756;7.224886
URL;VALUE=URI:https://criticalmass.in/bochum/kidical-mass-bochum-august-202
 5
END:VEVENT
END:VCALENDAR
