BEGIN:VCALENDAR
VERSION:2.0
PRODID:-//Sabre//Sabre VObject 4.5.8//EN
CALSCALE:GREGORIAN
BEGIN:VEVENT
UID:criticalmass-one-bochum-1766772000
DTSTAMP:20260423T192724Z
SUMMARY:Critical Mass Bochum 26.12.2025
DTSTART;TZID=Europe/Berlin:20251226T190000
DTEND;TZID=Europe/Berlin:20251226T210000
LOCATION:Rathausplatz
GEO:51.482024;7.215464
URL;VALUE=URI:https://criticalmass.in/bochum/2025-12-26
END:VEVENT
END:VCALENDAR
