BEGIN:VCALENDAR
VERSION:2.0
PRODID:-//Sabre//Sabre VObject 4.5.8//EN
CALSCALE:GREGORIAN
BEGIN:VEVENT
UID:criticalmass-one-bochum-1751043600
DTSTAMP:20260422T191946Z
SUMMARY:Critical Mass Bochum 27.06.2025
DTSTART;TZID=Europe/Berlin:20250627T190000
DTEND;TZID=Europe/Berlin:20250627T210000
LOCATION:Rathausplatz
GEO:51.482024;7.215464
URL;VALUE=URI:https://criticalmass.in/bochum/2025-06-27
END:VEVENT
END:VCALENDAR
