BEGIN:VCALENDAR
VERSION:2.0
PRODID:-//Sabre//Sabre VObject 4.5.8//EN
CALSCALE:GREGORIAN
BEGIN:VEVENT
UID:criticalmass-one-bochum-1716570000
DTSTAMP:20260423T084546Z
SUMMARY:Critical Mass Bochum 24.05.2024
DESCRIPTION:https://youtu.be/rTCvDERfnIU?si=bsobkTABFS556Zqt
DTSTART;TZID=Europe/Berlin:20240524T190000
DTEND;TZID=Europe/Berlin:20240524T210000
LOCATION:Rathausplatz
GEO:51.482024;7.215464
URL;VALUE=URI:https://criticalmass.in/bochum/2024-05-24
END:VEVENT
END:VCALENDAR
