BEGIN:VCALENDAR
VERSION:2.0
PRODID:-//Sabre//Sabre VObject 4.5.8//EN
CALSCALE:GREGORIAN
BEGIN:VEVENT
UID:criticalmass-one-bochum-1685120400
DTSTAMP:20260423T084531Z
SUMMARY:Critical Mass Bochum 26.05.2023
DTSTART;TZID=Europe/Berlin:20230526T190000
DTEND;TZID=Europe/Berlin:20230526T210000
LOCATION:Rathausplatz
GEO:51.482024;7.215464
URL;VALUE=URI:https://criticalmass.in/bochum/2023-05-26
END:VEVENT
END:VCALENDAR
