BEGIN:VCALENDAR
VERSION:2.0
PRODID:-//Sabre//Sabre VObject 4.5.8//EN
CALSCALE:GREGORIAN
BEGIN:VEVENT
UID:criticalmass-one-bochum-1682701200
DTSTAMP:20260424T104453Z
SUMMARY:Critical Mass Bochum 28.04.2023
DTSTART;TZID=Europe/Berlin:20230428T190000
DTEND;TZID=Europe/Berlin:20230428T210000
LOCATION:Rathausplatz
GEO:51.482024;7.215464
URL;VALUE=URI:https://criticalmass.in/bochum/2023-04-28
END:VEVENT
END:VCALENDAR
