BEGIN:VCALENDAR
VERSION:2.0
PRODID:-//Sabre//Sabre VObject 4.5.8//EN
CALSCALE:GREGORIAN
BEGIN:VEVENT
UID:criticalmass-one-bochum-1663952400
DTSTAMP:20260423T190029Z
SUMMARY:Critical Mass Bochum 23.09.2022
DTSTART;TZID=Europe/Berlin:20220923T190000
DTEND;TZID=Europe/Berlin:20220923T210000
LOCATION:Rathausplatz
GEO:51.482024;7.215464
URL;VALUE=URI:https://criticalmass.in/bochum/2022-09-23
END:VEVENT
END:VCALENDAR
