BEGIN:VCALENDAR
VERSION:2.0
PRODID:-//Sabre//Sabre VObject 4.5.8//EN
CALSCALE:GREGORIAN
BEGIN:VEVENT
UID:criticalmass-one-bochum-1656090000
DTSTAMP:20260423T084542Z
SUMMARY:Critical Mass Bochum 24.06.2022
DTSTART;TZID=Europe/Berlin:20220624T190000
DTEND;TZID=Europe/Berlin:20220624T210000
LOCATION:Rathausplatz
GEO:51.482024;7.215464
URL;VALUE=URI:https://criticalmass.in/bochum/2022-06-24
END:VEVENT
END:VCALENDAR
