BEGIN:VCALENDAR
VERSION:2.0
PRODID:-//Sabre//Sabre VObject 4.5.8//EN
CALSCALE:GREGORIAN
BEGIN:VEVENT
UID:criticalmass-one-bochum-1653670800
DTSTAMP:20260422T172211Z
SUMMARY:Critical Mass Bochum 27.05.2022
DTSTART;TZID=Europe/Berlin:20220527T190000
DTEND;TZID=Europe/Berlin:20220527T210000
LOCATION:Rathausplatz
GEO:51.482024;7.215464
URL;VALUE=URI:https://criticalmass.in/bochum/2022-05-27
END:VEVENT
END:VCALENDAR
