BEGIN:VCALENDAR
VERSION:2.0
PRODID:-//Sabre//Sabre VObject 4.5.8//EN
CALSCALE:GREGORIAN
BEGIN:VEVENT
UID:criticalmass-one-bochum-1634391000
DTSTAMP:20260423T101153Z
SUMMARY:CM zum ICFF
DTSTART;TZID=Europe/Berlin:20211016T153000
DTEND;TZID=Europe/Berlin:20211016T173000
LOCATION:Glocke am Rathaus
URL;VALUE=URI:https://criticalmass.in/bochum/2021-10-16
END:VEVENT
END:VCALENDAR
