BEGIN:VCALENDAR
VERSION:2.0
PRODID:-//Sabre//Sabre VObject 4.5.8//EN
CALSCALE:GREGORIAN
BEGIN:VEVENT
UID:criticalmass-one-bochum-1632502800
DTSTAMP:20260423T004110Z
SUMMARY:Critical Mass Bochum 24.09.2021
DTSTART;TZID=Europe/Berlin:20210924T190000
DTEND;TZID=Europe/Berlin:20210924T210000
LOCATION:Rathausplatz
GEO:51.482024;7.215464
URL;VALUE=URI:https://criticalmass.in/bochum/2021-09-24
END:VEVENT
END:VCALENDAR
