BEGIN:VCALENDAR
VERSION:2.0
PRODID:-//Sabre//Sabre VObject 4.5.8//EN
CALSCALE:GREGORIAN
BEGIN:VEVENT
UID:criticalmass-one-bochum-1622221200
DTSTAMP:20260423T113006Z
SUMMARY:Critical Mass Bochum 28.05.2021
DTSTART;TZID=Europe/Berlin:20210528T190000
DTEND;TZID=Europe/Berlin:20210528T210000
LOCATION:Rathausplatz
GEO:51.482024;7.215464
URL;VALUE=URI:https://criticalmass.in/bochum/2021-05-28
END:VEVENT
END:VCALENDAR
