BEGIN:VCALENDAR
VERSION:2.0
PRODID:-//Sabre//Sabre VObject 4.5.8//EN
CALSCALE:GREGORIAN
BEGIN:VEVENT
UID:criticalmass-one-bochum-1616781600
DTSTAMP:20260422T104438Z
SUMMARY:Critical Mass Bochum 26.03.2021
DTSTART;TZID=Europe/Berlin:20210326T190000
DTEND;TZID=Europe/Berlin:20210326T210000
LOCATION:Rathausplatz
GEO:51.482024;7.215464
URL;VALUE=URI:https://criticalmass.in/bochum/2021-03-26
END:VEVENT
END:VCALENDAR
