BEGIN:VCALENDAR
VERSION:2.0
PRODID:-//Sabre//Sabre VObject 4.5.8//EN
CALSCALE:GREGORIAN
BEGIN:VEVENT
UID:criticalmass-one-bochum-1603472400
DTSTAMP:20260423T083913Z
SUMMARY:Critical Mass Bochum 23.10.2020
DTSTART;TZID=Europe/Berlin:20201023T190000
DTEND;TZID=Europe/Berlin:20201023T210000
LOCATION:Rathausplatz
GEO:51.482024;7.215464
URL;VALUE=URI:https://criticalmass.in/bochum/2020-10-23
END:VEVENT
END:VCALENDAR
