BEGIN:VCALENDAR
VERSION:2.0
PRODID:-//Sabre//Sabre VObject 4.5.8//EN
CALSCALE:GREGORIAN
BEGIN:VEVENT
UID:criticalmass-one-bochum-1601053200
DTSTAMP:20260423T112855Z
SUMMARY:Critical Mass Bochum 25.09.2020
DTSTART;TZID=Europe/Berlin:20200925T190000
DTEND;TZID=Europe/Berlin:20200925T210000
LOCATION:Rathausplatz
GEO:51.482024;7.215464
URL;VALUE=URI:https://criticalmass.in/bochum/2020-09-25
END:VEVENT
END:VCALENDAR
