BEGIN:VCALENDAR
VERSION:2.0
PRODID:-//Sabre//Sabre VObject 4.5.8//EN
CALSCALE:GREGORIAN
BEGIN:VEVENT
UID:criticalmass-one-bochum-1595610000
DTSTAMP:20260421T234720Z
SUMMARY:Critical Mass Bochum 24.07.2020
DTSTART;TZID=Europe/Berlin:20200724T190000
DTEND;TZID=Europe/Berlin:20200724T210000
LOCATION:Rathausplatz
GEO:51.482024;7.215464
URL;VALUE=URI:https://criticalmass.in/bochum/2020-07-24
END:VEVENT
END:VCALENDAR
