BEGIN:VCALENDAR
VERSION:2.0
PRODID:-//Sabre//Sabre VObject 4.5.8//EN
CALSCALE:GREGORIAN
BEGIN:VEVENT
UID:criticalmass-one-bochum-1587747600
DTSTAMP:20260422T225826Z
SUMMARY:Critical Mass Bochum 24.04.2020
DTSTART;TZID=Europe/Berlin:20200424T190000
DTEND;TZID=Europe/Berlin:20200424T210000
LOCATION:Rathausplatz
GEO:51.482024;7.215464
URL;VALUE=URI:https://criticalmass.in/bochum/2020-04-24
END:VEVENT
END:VCALENDAR
