BEGIN:VCALENDAR
VERSION:2.0
PRODID:-//Sabre//Sabre VObject 4.5.8//EN
CALSCALE:GREGORIAN
BEGIN:VEVENT
UID:criticalmass-one-bochum-1564160400
DTSTAMP:20260422T103749Z
SUMMARY:Critical Mass Bochum 26.07.2019
DTSTART;TZID=Europe/Berlin:20190726T190000
DTEND;TZID=Europe/Berlin:20190726T210000
LOCATION:Rathausplatz
GEO:51.482024;7.215464
URL;VALUE=URI:https://criticalmass.in/bochum/2019-07-26
END:VEVENT
END:VCALENDAR
