BEGIN:VCALENDAR
VERSION:2.0
PRODID:-//Sabre//Sabre VObject 4.5.8//EN
CALSCALE:GREGORIAN
BEGIN:VEVENT
UID:criticalmass-one-bochum-1524848400
DTSTAMP:20260422T225828Z
SUMMARY:Critical Mass Bochum 27.04.2018
DTSTART;TZID=Europe/Berlin:20180427T190000
DTEND;TZID=Europe/Berlin:20180427T210000
LOCATION:Rathausplatz
GEO:51.482024;7.215464
URL;VALUE=URI:https://criticalmass.in/bochum/2018-04-27
END:VEVENT
END:VCALENDAR
