BEGIN:VCALENDAR
VERSION:2.0
PRODID:-//Sabre//Sabre VObject 4.5.8//EN
CALSCALE:GREGORIAN
BEGIN:VEVENT
UID:criticalmass-one-bochum-1521828000
DTSTAMP:20260423T050904Z
SUMMARY:Critical Mass Bochum 23.03.2018
DTSTART;TZID=Europe/Berlin:20180323T190000
DTEND;TZID=Europe/Berlin:20180323T210000
LOCATION:Rathausplatz
GEO:51.482024;7.215464
URL;VALUE=URI:https://criticalmass.in/bochum/2018-03-23
END:VEVENT
END:VCALENDAR
