BEGIN:VCALENDAR
VERSION:2.0
PRODID:-//Sabre//Sabre VObject 4.5.8//EN
CALSCALE:GREGORIAN
BEGIN:VEVENT
UID:criticalmass-one-bochum-1519408800
DTSTAMP:20260422T150008Z
SUMMARY:Critical Mass Bochum 23.02.2018
DTSTART;TZID=Europe/Berlin:20180223T190000
DTEND;TZID=Europe/Berlin:20180223T210000
LOCATION:Rathausplatz
GEO:51.482024;7.215464
URL;VALUE=URI:https://criticalmass.in/bochum/2018-02-23
END:VEVENT
END:VCALENDAR
