BEGIN:VCALENDAR
VERSION:2.0
PRODID:-//Sabre//Sabre VObject 4.5.8//EN
CALSCALE:GREGORIAN
BEGIN:VEVENT
UID:criticalmass-one-bochum-1485536400
DTSTAMP:20260422T200820Z
SUMMARY:Critical Mass Bochum 27.01.2017
DTSTART;TZID=Europe/Berlin:20170127T180000
DTEND;TZID=Europe/Berlin:20170127T200000
LOCATION:Rathausplatz
GEO:51.482024;7.215464
URL;VALUE=URI:https://criticalmass.in/bochum/2017-01-27
END:VEVENT
END:VCALENDAR
