BEGIN:VCALENDAR
VERSION:2.0
PRODID:-//Sabre//Sabre VObject 4.5.8//EN
CALSCALE:GREGORIAN
BEGIN:VEVENT
UID:criticalmass-one-bochum-1474657200
DTSTAMP:20260423T143319Z
SUMMARY:Critical Mass Bochum 23.09.2016
DTSTART;TZID=Europe/Berlin:20160923T210000
DTEND;TZID=Europe/Berlin:20160923T230000
LOCATION:Rathausplatz
GEO:51.482024;7.215464
URL;VALUE=URI:https://criticalmass.in/bochum/2016-09-23
END:VEVENT
END:VCALENDAR
