BEGIN:VCALENDAR
VERSION:2.0
PRODID:-//Sabre//Sabre VObject 4.5.8//EN
CALSCALE:GREGORIAN
BEGIN:VEVENT
UID:criticalmass-one-bochum-1472907600
DTSTAMP:20260423T025015Z
SUMMARY:Critical Mass Bochum 03.09.2016
DTSTART;TZID=Europe/Berlin:20160903T150000
DTEND;TZID=Europe/Berlin:20160903T170000
URL;VALUE=URI:https://criticalmass.in/bochum/2016-09-03
END:VEVENT
END:VCALENDAR
