BEGIN:VCALENDAR
VERSION:2.0
PRODID:-//Sabre//Sabre VObject 4.5.8//EN
CALSCALE:GREGORIAN
BEGIN:VEVENT
UID:criticalmass-one-bochum-1472238000
DTSTAMP:20260425T231414Z
SUMMARY:Critical Mass Bochum 26.08.2016
DTSTART;TZID=Europe/Berlin:20160826T210000
DTEND;TZID=Europe/Berlin:20160826T230000
LOCATION:Rathausplatz
GEO:51.482024;7.215464
URL;VALUE=URI:https://criticalmass.in/bochum/2016-08-26
END:VEVENT
END:VCALENDAR
