BEGIN:VCALENDAR
VERSION:2.0
PRODID:-//Sabre//Sabre VObject 4.5.8//EN
CALSCALE:GREGORIAN
BEGIN:VEVENT
UID:criticalmass-one-bochum-1467464400
DTSTAMP:20260422T145836Z
SUMMARY:Critical Mass Bochum 02.07.2016
DTSTART;TZID=Europe/Berlin:20160702T150000
DTEND;TZID=Europe/Berlin:20160702T170000
URL;VALUE=URI:https://criticalmass.in/bochum/2016-07-02
END:VEVENT
END:VCALENDAR
