BEGIN:VCALENDAR
VERSION:2.0
PRODID:-//Sabre//Sabre VObject 4.5.8//EN
CALSCALE:GREGORIAN
BEGIN:VEVENT
UID:criticalmass-one-bochum-1459602000
DTSTAMP:20260423T183148Z
SUMMARY:Critical Mass Bochum 02.04.2016
DTSTART;TZID=Europe/Berlin:20160402T150000
DTEND;TZID=Europe/Berlin:20160402T170000
URL;VALUE=URI:https://criticalmass.in/bochum/2016-04-02
END:VEVENT
END:VCALENDAR
