BEGIN:VCALENDAR
VERSION:2.0
PRODID:-//Sabre//Sabre VObject 4.5.8//EN
CALSCALE:GREGORIAN
BEGIN:VEVENT
UID:criticalmass-one-bochum-1430571600
DTSTAMP:20260423T064925Z
SUMMARY:Critical Mass Bochum 02.05.2015
DTSTART;TZID=Europe/Berlin:20150502T150000
DTEND;TZID=Europe/Berlin:20150502T170000
LOCATION:Rathaus
GEO:51.483440;7.215160
URL;VALUE=URI:https://criticalmass.in/bochum/2015-05-02
END:VEVENT
END:VCALENDAR
