BEGIN:VCALENDAR
VERSION:2.0
PRODID:-//Sabre//Sabre VObject 4.5.8//EN
CALSCALE:GREGORIAN
BEGIN:VEVENT
UID:criticalmass-one-bochum-1423317600
DTSTAMP:20260422T200850Z
SUMMARY:Critical Mass Bochum 07.02.2015
DTSTART;TZID=Europe/Berlin:20150207T150000
DTEND;TZID=Europe/Berlin:20150207T170000
LOCATION:Rathaus
GEO:51.483440;7.215160
URL;VALUE=URI:https://criticalmass.in/bochum/2015-02-07
END:VEVENT
END:VCALENDAR
