BEGIN:VCALENDAR
VERSION:2.0
PRODID:-//Sabre//Sabre VObject 4.5.8//EN
CALSCALE:GREGORIAN
BEGIN:VEVENT
UID:criticalmass-one-bochum-1414850400
DTSTAMP:20260422T121404Z
SUMMARY:Critical Mass Bochum 01.11.2014
DTSTART;TZID=Europe/Berlin:20141101T150000
DTEND;TZID=Europe/Berlin:20141101T170000
LOCATION:Rathaus
GEO:51.483440;7.215160
URL;VALUE=URI:https://criticalmass.in/bochum/2014-11-01
END:VEVENT
END:VCALENDAR
