BEGIN:VCALENDAR
VERSION:2.0
PRODID:-//Sabre//Sabre VObject 4.5.8//EN
CALSCALE:GREGORIAN
BEGIN:VEVENT
UID:criticalmass-one-bochum-1410008400
DTSTAMP:20260423T064858Z
SUMMARY:Critical Mass Bochum 06.09.2014
DTSTART;TZID=Europe/Berlin:20140906T150000
DTEND;TZID=Europe/Berlin:20140906T170000
LOCATION:Rathaus
GEO:51.483440;7.215160
URL;VALUE=URI:https://criticalmass.in/bochum/2014-09-06
END:VEVENT
END:VCALENDAR
