BEGIN:VCALENDAR
VERSION:2.0
PRODID:-//Sabre//Sabre VObject 4.5.8//EN
CALSCALE:GREGORIAN
BEGIN:VEVENT
UID:criticalmass-one-bochum-1396702800
DTSTAMP:20260424T025123Z
SUMMARY:Critical Mass Bochum 05.04.2014
DTSTART;TZID=Europe/Berlin:20140405T150000
DTEND;TZID=Europe/Berlin:20140405T170000
LOCATION:Rathaus
GEO:51.483440;7.215160
URL;VALUE=URI:https://criticalmass.in/bochum/2014-04-05
END:VEVENT
END:VCALENDAR
