BEGIN:VCALENDAR
VERSION:2.0
PRODID:-//Sabre//Sabre VObject 4.5.8//EN
CALSCALE:GREGORIAN
BEGIN:VEVENT
UID:criticalmass-one-bochum-1388844000
DTSTAMP:20260422T202013Z
SUMMARY:Critical Mass Bochum 04.01.2014
DTSTART;TZID=Europe/Berlin:20140104T150000
DTEND;TZID=Europe/Berlin:20140104T170000
LOCATION:Rathaus
GEO:51.483440;7.215160
URL;VALUE=URI:https://criticalmass.in/bochum/2014-01-04
END:VEVENT
END:VCALENDAR
