BEGIN:VCALENDAR
VERSION:2.0
PRODID:-//Sabre//Sabre VObject 4.5.8//EN
CALSCALE:GREGORIAN
BEGIN:VEVENT
UID:criticalmass-one-bochum-1584799200
DTSTAMP:20260422T000111Z
SUMMARY:1. Kidical Mass Bochum
DESCRIPTION:1. Bochumer Kidical Mass - "Platz da für die nächste Generati
 on!"\n\nAm Samstag\, 21. März 2020 findet die 1. Kidical Mass in Bochum s
 tatt. Unter dem Motto "Platz da für die nächste Generation!" wollen wir 
 gemeinsam Bochums Straßen erobern und ein klares Zeichen für eine kinder
 freundliche und lebenswertere Stadt setzen. Eine Stadt\, in der Kinder und
  Jugendliche sicher und selbstständig Fahrrad fahren können.\n\nDie Tour
  ist bei der Polizei als Demonstration gemeldet. Sie sichert die Strecke u
 nd passt auf die Autos auf. \nWir starten die Fahrrad-Demo um 15 Uhr am Be
 rgbaumuseum. Von dort aus fahren wir eine Strecke von rund 6 Kilometern un
 d enden wieder am Bergbaumuseum. Es folgt ein buntes Rahmenprogramm mit Sp
 iel und Spaß für Jung und Alt!\n\nWeitere Infos werden wir hier zeitnah 
 bekannt geben.\n\nSagt allen Bescheid\, kommt zahlreich\, kommt bunt\, sei
 d laut - am 21. März um 15 Uhr am Bergbaumuseum!
DTSTART;TZID=Europe/Berlin:20200321T150000
DTEND;TZID=Europe/Berlin:20200321T170000
LOCATION:Europaplatz
GEO:51.489000;7.215000
URL;VALUE=URI:https://criticalmass.in/bochum/1-kidical-mass-maerz-2020
END:VEVENT
END:VCALENDAR
