BEGIN:VCALENDAR
VERSION:2.0
PRODID:-//Sabre//Sabre VObject 4.5.8//EN
CALSCALE:GREGORIAN
BEGIN:VEVENT
UID:criticalmass-one-bietigheim-bissingen-1784908800
DTSTAMP:20260422T194925Z
SUMMARY:Critical Mass Bietigheim-Bissingen
DTSTART;TZID=Europe/Berlin:20260724T180000
DTEND;TZID=Europe/Berlin:20260724T200000
LOCATION:Bietigheim-Bissingen\, Festplatz am Viadukt
GEO:48.955481;9.128448
URL;VALUE=URI:https://criticalmass.in/bietigheim-bissingen/2026-07-24
END:VEVENT
END:VCALENDAR
