BEGIN:VCALENDAR
VERSION:2.0
PRODID:-//Sabre//Sabre VObject 4.5.8//EN
CALSCALE:GREGORIAN
BEGIN:VEVENT
UID:criticalmass-one-bietigheim-bissingen-1752249600
DTSTAMP:20260422T181749Z
SUMMARY:Critical Mass Bietigheim-Bissingen
DESCRIPTION:Ziel: Rathaus Bissingen mit gemütlichem Ausklang  \nFahrtdauer
  etwa 1 Stunde
DTSTART;TZID=Europe/Berlin:20250711T180000
DTEND;TZID=Europe/Berlin:20250711T200000
LOCATION:Festplatz am Viadukt
GEO:48.955735;9.128566
URL;VALUE=URI:https://criticalmass.in/bietigheim-bissingen/2025-07-11
END:VEVENT
END:VCALENDAR
