BEGIN:VCALENDAR
VERSION:2.0
PRODID:-//Sabre//Sabre VObject 4.5.8//EN
CALSCALE:GREGORIAN
BEGIN:VEVENT
UID:criticalmass-one-bielefeld-1584795600
DTSTAMP:20260423T190355Z
SUMMARY:Kidical Mass Bielefeld
DESCRIPTION:„Nur eine Fahrradstadt ist eine kinderfreundliche Stadt!“\n
 \nZum Frühlingsanfang erobern kleine und große Radfahrende mit den bunte
 n Fahrraddemos der KIDICAL MASS die Straßen in rund 50 Städten in ganz D
 eutschland und der Schweiz. Am Samstag\, 21.03.2020 ab 14 Uhr veranstaltet
  deshalb der Radentscheid Bielefeld eine Kidical Mass\, also eine geschüt
 zte gemeinsame Radtour für Kinder\, deren Familien\, Mitschüler*innen un
 d Freunde. Die Route wird gesichert von der Polizei. Start und Ziel ist de
 r Bielefelder Rathausplatz. Zu Beginn und am Ende wird es eine kurze Kundg
 ebung geben.\n\nJede*r kann mitfahren\, auf eigenem Rad oder Tandem\, in o
 der mit Anhänger oder Lastenrad.\n\nUnter dem Motto "Platz da für die n
 ächste Generation!" fordert das bundesweite Aktionsbündnis Städte\, in 
 denen sich auch Kinder sicher und selbstständig mit dem Fahrrad bewegen k
 önnen. Angstfreies Radfahren soll für ALLE möglich sein.\n\nSeid dabei\
 , die Dinge ins Rollen zu bringen!\n\nAlle Infos zu den am 21./22.03.2020 
 bundesweit stattfindenden Kidical Mass Fahrten findet man unter www.kinder
 aufsrad.org
DTSTART;TZID=Europe/Berlin:20200321T140000
DTEND;TZID=Europe/Berlin:20200321T160000
LOCATION:Rathausplatz
GEO:52.021000;8.535000
URL;VALUE=URI:https://criticalmass.in/bielefeld/kidical-mass-maerz-2020
END:VEVENT
END:VCALENDAR
