BEGIN:VCALENDAR
VERSION:2.0
PRODID:-//Sabre//Sabre VObject 4.5.8//EN
CALSCALE:GREGORIAN
BEGIN:VEVENT
UID:criticalmass-one-bielefeld-1727528400
DTSTAMP:20260423T095718Z
SUMMARY:Kidical Mass Bielefeld 28.09.2024
DESCRIPTION:durch die Bielefelder Innenstadt \nmit ordentlich Krach\, laute
 r Musik und Singen.\nIm Ravensbergerpark empfängt uns das historische Mus
 eum und das Lichtwerk Kino mit Überraschungen (Popcorn\, Kinderhochrad\, 
 Draisine\, "Talk im Saal")\nBei nettem Zusammensein\, lassen wir es dann a
 usklingen.
DTSTART;TZID=Europe/Berlin:20240928T150000
DTEND;TZID=Europe/Berlin:20240928T170000
LOCATION:Bielefeld Vorplatz altes Rathaus Bielefeld
GEO:52.021089;8.535049
URL;VALUE=URI:https://criticalmass.in/bielefeld/kidical-mass-bielefeld-sept
 ember-2024
END:VEVENT
END:VCALENDAR
