BEGIN:VCALENDAR
VERSION:2.0
PRODID:-//Sabre//Sabre VObject 4.5.8//EN
CALSCALE:GREGORIAN
BEGIN:VEVENT
UID:criticalmass-one-bielefeld-1631966400
DTSTAMP:20260423T143729Z
SUMMARY:Kidical Mass Bielefeld 18.09.2021
DTSTART;TZID=Europe/Berlin:20210918T140000
DTEND;TZID=Europe/Berlin:20210918T160000
LOCATION:Rathaus Bielefeld
URL;VALUE=URI:https://criticalmass.in/bielefeld/kidical-mass-bielefeld-sept
 ember-2021
END:VEVENT
END:VCALENDAR
