BEGIN:VCALENDAR
VERSION:2.0
PRODID:-//Sabre//Sabre VObject 4.5.8//EN
CALSCALE:GREGORIAN
BEGIN:VEVENT
UID:criticalmass-one-bielefeld-1600603200
DTSTAMP:20260423T062741Z
SUMMARY:Kidical Mass Bielefeld
DTSTART;TZID=Europe/Berlin:20200920T140000
DTEND;TZID=Europe/Berlin:20200920T160000
LOCATION:Altes Rathaus
GEO:52.021101;8.536034
URL;VALUE=URI:https://criticalmass.in/bielefeld/kidical-mass-bielefeld-sept
 ember-2020
END:VEVENT
END:VCALENDAR
