BEGIN:VCALENDAR
VERSION:2.0
PRODID:-//Sabre//Sabre VObject 4.5.8//EN
CALSCALE:GREGORIAN
BEGIN:VEVENT
UID:criticalmass-one-bielefeld-1769796000
DTSTAMP:20260423T232906Z
SUMMARY:Critical Mass Bielefeld 30.01.2026
DTSTART;TZID=Europe/Berlin:20260130T190000
DTEND;TZID=Europe/Berlin:20260130T210000
LOCATION:Kesselbrink
GEO:52.024145;8.537092
URL;VALUE=URI:https://criticalmass.in/bielefeld/2026-01-30
END:VEVENT
END:VCALENDAR
