BEGIN:VCALENDAR
VERSION:2.0
PRODID:-//Sabre//Sabre VObject 4.5.8//EN
CALSCALE:GREGORIAN
BEGIN:VEVENT
UID:criticalmass-one-bielefeld-1706292000
DTSTAMP:20260423T143317Z
SUMMARY:Critical Mass Bielefeld 26.01.2024
DTSTART;TZID=Europe/Berlin:20240126T190000
DTEND;TZID=Europe/Berlin:20240126T210000
LOCATION:Kesselbrink
GEO:52.024145;8.537092
URL;VALUE=URI:https://criticalmass.in/bielefeld/2024-01-26
END:VEVENT
END:VCALENDAR
