BEGIN:VCALENDAR
VERSION:2.0
PRODID:-//Sabre//Sabre VObject 4.5.8//EN
CALSCALE:GREGORIAN
BEGIN:VEVENT
UID:criticalmass-one-bielefeld-1624640400
DTSTAMP:20260423T232904Z
SUMMARY:Critical Mass Bielefeld 25.06.2021
DTSTART;TZID=Europe/Berlin:20210625T190000
DTEND;TZID=Europe/Berlin:20210625T210000
LOCATION:Kesselbrink
GEO:52.024145;8.537092
URL;VALUE=URI:https://criticalmass.in/bielefeld/2021-06-25
END:VEVENT
END:VCALENDAR
