BEGIN:VCALENDAR
VERSION:2.0
PRODID:-//Sabre//Sabre VObject 4.5.8//EN
CALSCALE:GREGORIAN
BEGIN:VEVENT
UID:criticalmass-one-bielefeld-1601053200
DTSTAMP:20260423T192309Z
SUMMARY:Critical Mass Bielefeld 25.09.2020
DTSTART;TZID=Europe/Berlin:20200925T190000
DTEND;TZID=Europe/Berlin:20200925T210000
LOCATION:Kesselbrink
GEO:52.024145;8.537092
URL;VALUE=URI:https://criticalmass.in/bielefeld/2020-09-25
END:VEVENT
END:VCALENDAR
