BEGIN:VCALENDAR
VERSION:2.0
PRODID:-//Sabre//Sabre VObject 4.5.8//EN
CALSCALE:GREGORIAN
BEGIN:VEVENT
UID:criticalmass-one-bielefeld-1529078400
DTSTAMP:20260423T184417Z
SUMMARY:Critical Mass Bielefeld 15.06.2018
DTSTART;TZID=Europe/Berlin:20180615T180000
DTEND;TZID=Europe/Berlin:20180615T200000
GEO:52.024145;8.537092
URL;VALUE=URI:https://criticalmass.in/bielefeld/2018-06-15
END:VEVENT
END:VCALENDAR
