BEGIN:VCALENDAR
VERSION:2.0
PRODID:-//Sabre//Sabre VObject 4.5.8//EN
CALSCALE:GREGORIAN
BEGIN:VEVENT
UID:criticalmass-one-bielefeld-1524240000
DTSTAMP:20260423T142839Z
SUMMARY:Critical Mass Bielefeld 20.04.2018
DTSTART;TZID=Europe/Berlin:20180420T180000
DTEND;TZID=Europe/Berlin:20180420T200000
GEO:52.024145;8.537092
URL;VALUE=URI:https://criticalmass.in/bielefeld/2018-04-20
END:VEVENT
END:VCALENDAR
