BEGIN:VCALENDAR
VERSION:2.0
PRODID:-//Sabre//Sabre VObject 4.5.8//EN
CALSCALE:GREGORIAN
BEGIN:VEVENT
UID:criticalmass-one-bielefeld-1516381200
DTSTAMP:20260424T064915Z
SUMMARY:Critical Mass Bielefeld 19.01.2018
DTSTART;TZID=Europe/Berlin:20180119T180000
DTEND;TZID=Europe/Berlin:20180119T200000
GEO:52.024145;8.537092
URL;VALUE=URI:https://criticalmass.in/bielefeld/2018-01-19
END:VEVENT
END:VCALENDAR
