BEGIN:VCALENDAR
VERSION:2.0
PRODID:-//Sabre//Sabre VObject 4.5.8//EN
CALSCALE:GREGORIAN
BEGIN:VEVENT
UID:criticalmass-one-bielefeld-1508515200
DTSTAMP:20260423T055802Z
SUMMARY:Critical Mass Bielefeld 20.10.2017
DTSTART;TZID=Europe/Berlin:20171020T180000
DTEND;TZID=Europe/Berlin:20171020T200000
URL;VALUE=URI:https://criticalmass.in/bielefeld/2017-10-20
END:VEVENT
END:VCALENDAR
