BEGIN:VCALENDAR
VERSION:2.0
PRODID:-//Sabre//Sabre VObject 4.5.8//EN
CALSCALE:GREGORIAN
BEGIN:VEVENT
UID:criticalmass-one-bielefeld-1503072000
DTSTAMP:20260423T101728Z
SUMMARY:Critical Mass Bielefeld 18.08.2017
DTSTART;TZID=Europe/Berlin:20170818T180000
DTEND;TZID=Europe/Berlin:20170818T200000
URL;VALUE=URI:https://criticalmass.in/bielefeld/2017-08-18
END:VEVENT
END:VCALENDAR
