BEGIN:VCALENDAR
VERSION:2.0
PRODID:-//Sabre//Sabre VObject 4.5.8//EN
CALSCALE:GREGORIAN
BEGIN:VEVENT
UID:criticalmass-one-bielefeld-1481904000
DTSTAMP:20260423T080108Z
SUMMARY:Critical Mass Bielefeld 16.12.2016
DTSTART;TZID=Europe/Berlin:20161216T170000
DTEND;TZID=Europe/Berlin:20161216T190000
URL;VALUE=URI:https://criticalmass.in/bielefeld/2016-12-16
END:VEVENT
END:VCALENDAR
